BEGIN:VCALENDAR
VERSION:2.0
PRODID:-//94.9 The Wave - ECPv4.6.26//NONSGML v1.0//EN
CALSCALE:GREGORIAN
METHOD:PUBLISH
X-WR-CALNAME:94.9 The Wave
X-ORIGINAL-URL:https://949thewave.com
X-WR-CALDESC:Events for 94.9 The Wave
BEGIN:VEVENT
DTSTART;VALUE=DATE:20220716
DTEND;VALUE=DATE:20220717
DTSTAMP:20260424T102357
CREATED:20220713T183831Z
LAST-MODIFIED:20220713T183831Z
UID:12808-1657929600-1658015999@949thewave.com
SUMMARY:Just Passing Through 2022
DESCRIPTION:Long Term Care Drive By \nSaturday\, July 16th \nMeeting at the Emera Centre North Side at 9AM. \nDeparting at 10AM. \nHope to see everyone there. \n
URL:https://949thewave.com/event/just-passing-through-2022/
END:VEVENT
END:VCALENDAR