BEGIN:VCALENDAR
VERSION:2.0
PRODID:-//94.9 The Wave - ECPv4.6.26//NONSGML v1.0//EN
CALSCALE:GREGORIAN
METHOD:PUBLISH
X-WR-CALNAME:94.9 The Wave
X-ORIGINAL-URL:https://949thewave.com
X-WR-CALDESC:Events for 94.9 The Wave
BEGIN:VEVENT
DTSTART;VALUE=DATE:20221117
DTEND;VALUE=DATE:20221118
DTSTAMP:20260420T231559
CREATED:20221114T144519Z
LAST-MODIFIED:20221114T144519Z
UID:13334-1668643200-1668729599@949thewave.com
SUMMARY:iPhone Cameras & Kodak Brownies: A CBU Art Gallery Talk
DESCRIPTION:Thursday\, Nov. 17 at 6:30 pm\nMcConnell Library (50 Falmouth St.\, Sydney) \n“You Press the Button\, We Do the Rest.”\nGeorge Eastman of Eastman Kodak Co. made photography accessible with the first release of the Kodak Brownie in 1900. No longer was the magic of photography restricted to the secrets of the dark room; anyone who had a Brownie could make a photographic image. Then in 2007\, the first ever iPhone would hit the market equipped with its own digital camera. How do these two seemingly different machines relate? \nJoin CBU Art Gallery’s Collections & Exhibition Technician\, Deanna Manolakos\, as she unpacks over 100 years of vernacular photography.\nNo registration required. \n
URL:https://949thewave.com/event/iphone-cameras-kodak-brownies-a-cbu-art-gallery-talk/
END:VEVENT
END:VCALENDAR