BEGIN:VCALENDAR
VERSION:2.0
PRODID:-//94.9 The Wave - ECPv4.6.26//NONSGML v1.0//EN
CALSCALE:GREGORIAN
METHOD:PUBLISH
X-WR-CALNAME:94.9 The Wave
X-ORIGINAL-URL:https://949thewave.com
X-WR-CALDESC:Events for 94.9 The Wave
BEGIN:VEVENT
DTSTART;TZID=America/Halifax:20221020T180000
DTEND;TZID=America/Halifax:20221020T200000
DTSTAMP:20260421T035322
CREATED:20221004T172842Z
LAST-MODIFIED:20221004T172842Z
UID:13175-1666288800-1666296000@949thewave.com
SUMMARY:Introduction to Seed Saving
DESCRIPTION:Introduction to Seed Saving\nThurs. Oct. 20 6-8 pm\nMcConnell Library (50 Falmouth St.\, Sydney) \nMichelle Smith—a farmer\, seed-saver\, and gardening columnist with over 30 years’ experience growing in our bioregion—is returning to the McConnell Library this fall to provide tips on saving your vegetable seeds.\nRegistration required at https://cbrl.ca/events/ \n
URL:https://949thewave.com/event/introduction-to-seed-saving/
END:VEVENT
END:VCALENDAR