BEGIN:VCALENDAR
VERSION:2.0
PRODID:-//94.9 The Wave - ECPv4.6.26//NONSGML v1.0//EN
CALSCALE:GREGORIAN
METHOD:PUBLISH
X-WR-CALNAME:94.9 The Wave
X-ORIGINAL-URL:https://949thewave.com
X-WR-CALDESC:Events for 94.9 The Wave
BEGIN:VEVENT
DTSTART;TZID=America/Halifax:20231027T180000
DTEND;TZID=America/Halifax:20231027T193000
DTSTAMP:20260421T123612
CREATED:20231010T172613Z
LAST-MODIFIED:20231010T172613Z
UID:14686-1698429600-1698435000@949thewave.com
SUMMARY:Indoor Winter Gardening
DESCRIPTION:Glace Bay Library \nThursday October 26 \n6 – 7:30 \nWant to learn about indoor winter gardening?  Join local expert to learn how to begin!  Registration required.  Please email ewilliams@cbrl.ca or cmcinnis@cbrl.ca \n  \n
URL:https://949thewave.com/event/indoor-winter-gardening/
END:VEVENT
END:VCALENDAR