BEGIN:VCALENDAR
VERSION:2.0
PRODID:-//94.9 The Wave - ECPv4.6.26//NONSGML v1.0//EN
CALSCALE:GREGORIAN
METHOD:PUBLISH
X-WR-CALNAME:94.9 The Wave
X-ORIGINAL-URL:https://949thewave.com
X-WR-CALDESC:Events for 94.9 The Wave
BEGIN:VEVENT
DTSTART;TZID=America/Halifax:20231028T130000
DTEND;TZID=America/Halifax:20231028T150000
DTSTAMP:20260421T061744
CREATED:20231025T151925Z
LAST-MODIFIED:20231025T151925Z
UID:14741-1698498000-1698505200@949thewave.com
SUMMARY:Home Bake Sale and Flee Market
DESCRIPTION:Warden United Church\n5th St Glace Bay\nSaturday October 28th\nHome Bake Sale and\nFlee Market\n1pm-3pm\n$1 admission Fee \n
URL:https://949thewave.com/event/home-bake-sale-and-flee-market/
END:VEVENT
END:VCALENDAR