BEGIN:VCALENDAR
VERSION:2.0
PRODID:-//94.9 The Wave - ECPv4.6.26//NONSGML v1.0//EN
CALSCALE:GREGORIAN
METHOD:PUBLISH
X-WR-CALNAME:94.9 The Wave
X-ORIGINAL-URL:https://949thewave.com
X-WR-CALDESC:Events for 94.9 The Wave
BEGIN:VEVENT
DTSTART;TZID=America/Halifax:20181102T090000
DTEND;TZID=America/Halifax:20181102T150000
DTSTAMP:20260424T152040
CREATED:20180912T125341Z
LAST-MODIFIED:20180912T125341Z
UID:5100-1541149200-1541170800@949thewave.com
SUMMARY:Holocaust Week Conference
DESCRIPTION:Registration is now open for the annual Holocaust Week conference.This year the guest speaker is from the Montreal Holocaust Museum-Erica Fagen. The conference will be held in Victoria Park-Sydney-November 2\,2018 – 9am-3pm.Info :educationholocaust@gmail.com \n
URL:https://949thewave.com/event/holocaust-week-conference/
END:VEVENT
END:VCALENDAR