BEGIN:VCALENDAR
VERSION:2.0
PRODID:-//94.9 The Wave - ECPv4.6.26//NONSGML v1.0//EN
CALSCALE:GREGORIAN
METHOD:PUBLISH
X-WR-CALNAME:94.9 The Wave
X-ORIGINAL-URL:https://949thewave.com
X-WR-CALDESC:Events for 94.9 The Wave
BEGIN:VEVENT
DTSTART;TZID=America/Halifax:20181010T100000
DTEND;TZID=America/Halifax:20181010T170000
DTSTAMP:20260420T203945
CREATED:20180925T135618Z
LAST-MODIFIED:20180925T135618Z
UID:5212-1539165600-1539190800@949thewave.com
SUMMARY:Hike Nova Scotia
DESCRIPTION:Celtic Colours Aspy Trail Hike: Oct. 10 Hike Nova Scotia and Parks Canada present a Celtic Colours guided hike on the Aspy Trail in the Cape Breton Highlands National Park on October 10 at 10 am. You must pre-register at 902-224-2306. Qualify to win a trail prize. See www.hikenovascotia.ca for details. \n
URL:https://949thewave.com/event/hike-nova-scotia-2/
END:VEVENT
END:VCALENDAR