BEGIN:VCALENDAR
VERSION:2.0
PRODID:-//94.9 The Wave - ECPv4.6.26//NONSGML v1.0//EN
CALSCALE:GREGORIAN
METHOD:PUBLISH
X-WR-CALNAME:94.9 The Wave
X-ORIGINAL-URL:https://949thewave.com
X-WR-CALDESC:Events for 94.9 The Wave
BEGIN:VEVENT
DTSTART;VALUE=DATE:20210712
DTEND;VALUE=DATE:20210713
DTSTAMP:20260421T154004
CREATED:20210707T114907Z
LAST-MODIFIED:20210707T114907Z
UID:11586-1626048000-1626134399@949thewave.com
SUMMARY:HELP CENTER of the CAPE BRETON GENEALOGY AND HISTORICAL SOCIETY
DESCRIPTION:The HELP CENTER of the CAPE BRETON GENEALOGY AND HISTORICAL SOCIETY will open for the summer on July 12th.\nHours are Mondays from 11 am to 3 pm and Thursdays from 10 am to 3 pm in the former Bank of Montreal building\, 173 Charlotte Street in Sydney. Use of the centre is free. Volunteers are on hand to help with your research. The Center has the largest collection of Cape Breton genealogy information available anywhere. More information is available online at cbgen.org \n
URL:https://949thewave.com/event/help-center-of-the-cape-breton-genealogy-and-historical-society/
CATEGORIES:Community
END:VEVENT
END:VCALENDAR