BEGIN:VCALENDAR
VERSION:2.0
PRODID:-//94.9 The Wave - ECPv4.6.26//NONSGML v1.0//EN
CALSCALE:GREGORIAN
METHOD:PUBLISH
X-WR-CALNAME:94.9 The Wave
X-ORIGINAL-URL:https://949thewave.com
X-WR-CALDESC:Events for 94.9 The Wave
BEGIN:VEVENT
DTSTART;TZID=America/Halifax:20231126T083000
DTEND;TZID=America/Halifax:20231126T110000
DTSTAMP:20260422T163152
CREATED:20231120T192730Z
LAST-MODIFIED:20231120T192730Z
UID:14911-1700987400-1700996400@949thewave.com
SUMMARY:HARVEST BREAKFAST
DESCRIPTION:“Hungry People Wanted” \nBranch 55\, Royal Canadian Legion\, Port Morien \nSunday\, November 26th\, 8:30 to 11 a.m. \nAdults $9.00\nChildren $6.00 \nTasty pancakes & sausages\, homemade muffins\, juice\, tea/coffee. Eat in or Takeout available. SEE YOU THERE. \n
URL:https://949thewave.com/event/harvest-breakfast-2/
END:VEVENT
END:VCALENDAR