BEGIN:VCALENDAR
VERSION:2.0
PRODID:-//94.9 The Wave - ECPv4.6.26//NONSGML v1.0//EN
CALSCALE:GREGORIAN
METHOD:PUBLISH
X-WR-CALNAME:94.9 The Wave
X-ORIGINAL-URL:https://949thewave.com
X-WR-CALDESC:Events for 94.9 The Wave
BEGIN:VEVENT
DTSTART;TZID=America/Halifax:20230623T120000
DTEND;TZID=America/Halifax:20230623T150000
DTSTAMP:20260424T134957
CREATED:20230605T184259Z
LAST-MODIFIED:20230605T184259Z
UID:14228-1687521600-1687532400@949thewave.com
SUMMARY:Ham Salad Luncheon Wildfire Fundraiser
DESCRIPTION:Our Lady of Fatima Parish Sydney River will be holding a Ham Salad Luncheon in the parish hall in aid of the victims of the wildfires in the Halifax area on June 23\, 2023 from 12 noon to 3pm. Tickets are available at the Parish Office 1452 Kings Rd\, or call Marg 902-564-5788 or Linda 902-562-2957. Eat-in or take-out tickets are $12.00 each and must be purchased by June 18. \n
URL:https://949thewave.com/event/ham-salad-luncheon-wildfire-fundraiser/
END:VEVENT
END:VCALENDAR