BEGIN:VCALENDAR
VERSION:2.0
PRODID:-//94.9 The Wave - ECPv4.6.26//NONSGML v1.0//EN
CALSCALE:GREGORIAN
METHOD:PUBLISH
X-WR-CALNAME:94.9 The Wave
X-ORIGINAL-URL:https://949thewave.com
X-WR-CALDESC:Events for 94.9 The Wave
BEGIN:VEVENT
DTSTART;VALUE=DATE:20240602
DTEND;VALUE=DATE:20240603
DTSTAMP:20260420T161323
CREATED:20240522T122008Z
LAST-MODIFIED:20240522T122008Z
UID:15625-1717286400-1717372799@949thewave.com
SUMMARY:Gutsy Walk To Stop Crohn’s and Colitis
DESCRIPTION:When: Sunday\, June 2\, 2024 Registration @ 10am;  Walk @ 11am \nWhere:  Membertou Sport and Wellness Centre \n
URL:https://949thewave.com/event/gutsy-walk-to-stop-crohns-and-colitis/
END:VEVENT
END:VCALENDAR