BEGIN:VCALENDAR
VERSION:2.0
PRODID:-//94.9 The Wave - ECPv4.6.26//NONSGML v1.0//EN
CALSCALE:GREGORIAN
METHOD:PUBLISH
X-WR-CALNAME:94.9 The Wave
X-ORIGINAL-URL:https://949thewave.com
X-WR-CALDESC:Events for 94.9 The Wave
BEGIN:VEVENT
DTSTART;TZID=America/Halifax:20181027T190000
DTEND;TZID=America/Halifax:20181027T210000
DTSTAMP:20260420T155559
CREATED:20181024T182220Z
LAST-MODIFIED:20181024T182220Z
UID:5457-1540666800-1540674000@949thewave.com
SUMMARY:Gospel Concert
DESCRIPTION:Please join us this Saturday\, October 27\, at 7 p.m. for an amazing Gospel Concert in one of Glace Bay’s most beautiful sacred spaces — Knox United Church. The Jubilee Gospel Soul Singers and friends of the late Eddie Parris will perform a moving tribute in Knox United Church on Commercial St in downtown Glace Bay. Admission is $10. Everyone is welcome. See you this Saturday at 7 p.m.! \n
URL:https://949thewave.com/event/gospel-concert/
END:VEVENT
END:VCALENDAR