BEGIN:VCALENDAR
VERSION:2.0
PRODID:-//94.9 The Wave - ECPv4.6.26//NONSGML v1.0//EN
CALSCALE:GREGORIAN
METHOD:PUBLISH
X-WR-CALNAME:94.9 The Wave
X-ORIGINAL-URL:https://949thewave.com
X-WR-CALDESC:Events for 94.9 The Wave
BEGIN:VEVENT
DTSTART;TZID=America/Halifax:20200215T130000
DTEND;TZID=America/Halifax:20200215T143000
DTSTAMP:20260421T132229
CREATED:20200205T134510Z
LAST-MODIFIED:20200205T134510Z
UID:9078-1581771600-1581777000@949thewave.com
SUMMARY:Good Food Bus
DESCRIPTION:Good Food Bus\, Affordable\, Fresh Food Market on Wheels \nLocation:  Polish Village Hall\, Whitney Pier \nDate:  Feb 15th\, Feb 29th\, Mar 14th \nTime:  100 PM – 230 PM \n
URL:https://949thewave.com/event/good-food-bus-4/
END:VEVENT
END:VCALENDAR