BEGIN:VCALENDAR
VERSION:2.0
PRODID:-//94.9 The Wave - ECPv4.6.26//NONSGML v1.0//EN
CALSCALE:GREGORIAN
METHOD:PUBLISH
X-WR-CALNAME:94.9 The Wave
X-ORIGINAL-URL:https://949thewave.com
X-WR-CALDESC:Events for 94.9 The Wave
BEGIN:VEVENT
DTSTART;TZID=America/Halifax:20161203T180000
DTEND;TZID=America/Halifax:20161203T200000
DTSTAMP:20260424T121952
CREATED:20161118T191955Z
LAST-MODIFIED:20161118T192541Z
UID:1835-1480788000-1480795200@949thewave.com
SUMMARY:Glace Bay Santa Parade
DESCRIPTION:For more information\, visit www.cbrm.ns.ca/events or \nPhone 902-563-5510 \n
URL:https://949thewave.com/event/glace-bay-santa-parade/
CATEGORIES:Community
END:VEVENT
END:VCALENDAR