BEGIN:VCALENDAR
VERSION:2.0
PRODID:-//94.9 The Wave - ECPv4.6.26//NONSGML v1.0//EN
CALSCALE:GREGORIAN
METHOD:PUBLISH
X-WR-CALNAME:94.9 The Wave
X-ORIGINAL-URL:https://949thewave.com
X-WR-CALDESC:Events for 94.9 The Wave
BEGIN:VEVENT
DTSTART;TZID=America/Halifax:20230125T183000
DTEND;TZID=America/Halifax:20230125T193000
DTSTAMP:20260421T064216
CREATED:20221230T160505Z
LAST-MODIFIED:20221230T160505Z
UID:13480-1674671400-1674675000@949thewave.com
SUMMARY:Glace Bay Library Recipe Exchange
DESCRIPTION:On January 25th from 6:30pm-7:30pm the Glace Bay Library will be hosting a Recipe Exchange.  Bring in your favorite recipes to share and take some new ones home. \n
URL:https://949thewave.com/event/glace-bay-library-recipe-exchange/
END:VEVENT
END:VCALENDAR