BEGIN:VCALENDAR
VERSION:2.0
PRODID:-//94.9 The Wave - ECPv4.6.26//NONSGML v1.0//EN
CALSCALE:GREGORIAN
METHOD:PUBLISH
X-WR-CALNAME:94.9 The Wave
X-ORIGINAL-URL:https://949thewave.com
X-WR-CALDESC:Events for 94.9 The Wave
BEGIN:VEVENT
DTSTART;TZID=America/Halifax:20171013T180000
DTEND;TZID=America/Halifax:20171013T220000
DTSTAMP:20260421T135910
CREATED:20170928T190715Z
LAST-MODIFIED:20170928T190715Z
UID:3993-1507917600-1507932000@949thewave.com
SUMMARY:Glace Bay Hospital Foundation Fundraiser
DESCRIPTION:Friday\, October 13th at 6 PM \nChicken Dinner Fundraiser for the Glace Bay Hospital Foundation. $20/ticket Includes the Italian Hall famous chicken dinner\, with tea/coffee and dessert. Open Bar. Music by Mario Colosimo. Tickets Available by phoning Cathy at 849-1567 or join our facebook page and send us a message \n
URL:https://949thewave.com/event/glace-bay-hospital-foundation-fundraiser/
END:VEVENT
END:VCALENDAR