BEGIN:VCALENDAR
VERSION:2.0
PRODID:-//94.9 The Wave - ECPv4.6.26//NONSGML v1.0//EN
CALSCALE:GREGORIAN
METHOD:PUBLISH
X-WR-CALNAME:94.9 The Wave
X-ORIGINAL-URL:https://949thewave.com
X-WR-CALDESC:Events for 94.9 The Wave
BEGIN:VEVENT
DTSTART;VALUE=DATE:20250611
DTEND;VALUE=DATE:20250613
DTSTAMP:20260421T190520
CREATED:20250603T145659Z
LAST-MODIFIED:20250603T145659Z
UID:17072-1749600000-1749772799@949thewave.com
SUMMARY:Glace Bay Art Exhibit
DESCRIPTION:June 11th from noon to 8 pm and June 12th from noon to 8 pm.\nGlace Bay Fire Hall Reserve St. Glace bay \nFree admission. Everyone welcome. \n
URL:https://949thewave.com/event/glace-bay-art-exhibit/
END:VEVENT
END:VCALENDAR