BEGIN:VCALENDAR
VERSION:2.0
PRODID:-//94.9 The Wave - ECPv4.6.26//NONSGML v1.0//EN
CALSCALE:GREGORIAN
METHOD:PUBLISH
X-WR-CALNAME:94.9 The Wave
X-ORIGINAL-URL:https://949thewave.com
X-WR-CALDESC:Events for 94.9 The Wave
BEGIN:VEVENT
DTSTART;TZID=America/Halifax:20241011T133000
DTEND;TZID=America/Halifax:20241011T153000
DTSTAMP:20260421T132419
CREATED:20241008T122340Z
LAST-MODIFIED:20241008T122340Z
UID:16155-1728653400-1728660600@949thewave.com
SUMMARY:GBL Knitting Club
DESCRIPTION:Glace Bay Library \nEvery Friday 1:30 – 3:30pm \n
URL:https://949thewave.com/event/gbl-knitting-club/2024-10-11/
END:VEVENT
END:VCALENDAR