BEGIN:VCALENDAR
VERSION:2.0
PRODID:-//94.9 The Wave - ECPv4.6.26//NONSGML v1.0//EN
CALSCALE:GREGORIAN
METHOD:PUBLISH
X-WR-CALNAME:94.9 The Wave
X-ORIGINAL-URL:https://949thewave.com
X-WR-CALDESC:Events for 94.9 The Wave
BEGIN:VEVENT
DTSTART;TZID=America/Halifax:20170708T190000
DTEND;TZID=America/Halifax:20170708T220000
DTSTAMP:20260422T163106
CREATED:20170629T142939Z
LAST-MODIFIED:20170629T142939Z
UID:3538-1499540400-1499551200@949thewave.com
SUMMARY:Fundraising Auction
DESCRIPTION:Fundraising Auction on Saturday\, July 8th from 7 PM – 9 PM at the Donkin Fire Hall.  Music to follow.  Hosted by Alfie MacLeod (Auctioneer).  All monies raised will go to two families who lost their homes due to fire. \n
URL:https://949thewave.com/event/fundraising-auction/
END:VEVENT
END:VCALENDAR