BEGIN:VCALENDAR
VERSION:2.0
PRODID:-//94.9 The Wave - ECPv4.6.26//NONSGML v1.0//EN
CALSCALE:GREGORIAN
METHOD:PUBLISH
X-WR-CALNAME:94.9 The Wave
X-ORIGINAL-URL:https://949thewave.com
X-WR-CALDESC:Events for 94.9 The Wave
BEGIN:VEVENT
DTSTART;TZID=America/Halifax:20200222T110000
DTEND;TZID=America/Halifax:20200222T123000
DTSTAMP:20260424T121818
CREATED:20200205T174239Z
LAST-MODIFIED:20200205T174239Z
UID:9116-1582369200-1582374600@949thewave.com
SUMMARY:Free Skate
DESCRIPTION:Sydney Mines & District Community Center is offering free family skates for the month of Feb. and March 2020. Every Saturday from 11am to 12:30pm \n  \nFeb. 22nd sponsored by Northside Policing Office\, Sydney Mines \n  \n
URL:https://949thewave.com/event/free-skate-5/
END:VEVENT
END:VCALENDAR