BEGIN:VCALENDAR
VERSION:2.0
PRODID:-//94.9 The Wave - ECPv4.6.26//NONSGML v1.0//EN
CALSCALE:GREGORIAN
METHOD:PUBLISH
X-WR-CALNAME:94.9 The Wave
X-ORIGINAL-URL:https://949thewave.com
X-WR-CALDESC:Events for 94.9 The Wave
BEGIN:VEVENT
DTSTART;TZID=America/Halifax:20200208T110000
DTEND;TZID=America/Halifax:20200208T120000
DTSTAMP:20260421T002145
CREATED:20200205T173921Z
LAST-MODIFIED:20200205T173921Z
UID:9112-1581159600-1581163200@949thewave.com
SUMMARY:Free Skate
DESCRIPTION:Sydney Mines & District Community Center is offering free family skates for the month of Feb. and March 2020. Every Saturday from 11am to 12:30pm \nFeb. 8th sponsored by Sam’s Auto Glass North Sydney \n  \n
URL:https://949thewave.com/event/free-skate-3/
END:VEVENT
END:VCALENDAR