BEGIN:VCALENDAR
VERSION:2.0
PRODID:-//94.9 The Wave - ECPv4.6.26//NONSGML v1.0//EN
CALSCALE:GREGORIAN
METHOD:PUBLISH
X-WR-CALNAME:94.9 The Wave
X-ORIGINAL-URL:https://949thewave.com
X-WR-CALDESC:Events for 94.9 The Wave
BEGIN:VEVENT
DTSTART;VALUE=DATE:20230617
DTEND;VALUE=DATE:20230619
DTSTAMP:20260424T151412
CREATED:20230613T135052Z
LAST-MODIFIED:20230613T135052Z
UID:14249-1686960000-1687132799@949thewave.com
SUMMARY:Free Seedlings - Forest Nova Scotia
DESCRIPTION:“Stop by the one of the Farmer’s Markets below this Saturday or Sunday to pick up free seedlings at Forest Nova Scotia’s booth. For more information visit\, ourtrees.ca \nCape Breton Farmers Market\, Saturday 9:30 am – 1:30 pm\nMabou Farmers Market\, Sunday\, 11 am – 2 pm \n
URL:https://949thewave.com/event/free-seedlings-forest-nova-scotia/
ATTACH;FMTTYPE=image/jpeg:https://949thewave.com/wp-content/uploads/sites/12/2023/06/forest-ns-1.jpg
END:VEVENT
END:VCALENDAR