BEGIN:VCALENDAR
VERSION:2.0
PRODID:-//94.9 The Wave - ECPv4.6.26//NONSGML v1.0//EN
CALSCALE:GREGORIAN
METHOD:PUBLISH
X-WR-CALNAME:94.9 The Wave
X-ORIGINAL-URL:https://949thewave.com
X-WR-CALDESC:Events for 94.9 The Wave
BEGIN:VEVENT
DTSTART;VALUE=DATE:20170220
DTEND;VALUE=DATE:20170221
DTSTAMP:20260422T132928
CREATED:20170125T173034Z
LAST-MODIFIED:20170125T173034Z
UID:1968-1487548800-1487635199@949thewave.com
SUMMARY:Free Family Skate
DESCRIPTION:The Cape 94.9\,  CBRM Recreation and Canadian Tire Jumpstart Present a Free Family Skate on Family Day Feb 20. \nBayPlex Glace Bay 10 am to 12 pm\nC-200  Sydney 1:15 pm to 3:15 pm\nEmera Centre  North Sydney 2:40 pm to 4:40 pm \n
URL:https://949thewave.com/event/free-family-skate/
CATEGORIES:Community
ATTACH;FMTTYPE=image/png:https://949thewave.com/wp-content/uploads/sites/12/2017/01/familyskate_ckpe.png
END:VEVENT
END:VCALENDAR