BEGIN:VCALENDAR
VERSION:2.0
PRODID:-//94.9 The Wave - ECPv4.6.26//NONSGML v1.0//EN
CALSCALE:GREGORIAN
METHOD:PUBLISH
X-WR-CALNAME:94.9 The Wave
X-ORIGINAL-URL:https://949thewave.com
X-WR-CALDESC:Events for 94.9 The Wave
BEGIN:VEVENT
DTSTART;TZID=America/Halifax:20170506T090000
DTEND;TZID=America/Halifax:20170506T230000
DTSTAMP:20260424T121909
CREATED:20170413T185441Z
LAST-MODIFIED:20170413T185441Z
UID:2630-1494061200-1494111600@949thewave.com
SUMMARY:Flea Market Fundraiser
DESCRIPTION:St Theresa’s CWL Annual Flea Market will take place on Saturday May 6th 2017 from 9 – 11 am at St Theresa’s Parish Centre\, 285 St Peters Road\, Sydney\, NS. Admission $1.00. \n
URL:https://949thewave.com/event/flea-market-fundraiser/
END:VEVENT
END:VCALENDAR