BEGIN:VCALENDAR
VERSION:2.0
PRODID:-//94.9 The Wave - ECPv4.6.26//NONSGML v1.0//EN
CALSCALE:GREGORIAN
METHOD:PUBLISH
X-WR-CALNAME:94.9 The Wave
X-ORIGINAL-URL:https://949thewave.com
X-WR-CALDESC:Events for 94.9 The Wave
BEGIN:VEVENT
DTSTART;TZID=America/Halifax:20181020T090000
DTEND;TZID=America/Halifax:20181020T120000
DTSTAMP:20260421T183755
CREATED:20181019T142334Z
LAST-MODIFIED:20181019T142334Z
UID:5420-1540026000-1540036800@949thewave.com
SUMMARY:Flea Market
DESCRIPTION:Flea Market will be held at Warden United Church\, New Aberdeen\, Glace Bay on Saturday\, October 20th from 9 a.m. to 12 p.m. Admission $1. Plenty of excellent buys! \n
URL:https://949thewave.com/event/flea-market-2/
END:VEVENT
END:VCALENDAR