BEGIN:VCALENDAR
VERSION:2.0
PRODID:-//94.9 The Wave - ECPv4.6.26//NONSGML v1.0//EN
CALSCALE:GREGORIAN
METHOD:PUBLISH
X-WR-CALNAME:94.9 The Wave
X-ORIGINAL-URL:https://949thewave.com
X-WR-CALDESC:Events for 94.9 The Wave
BEGIN:VEVENT
DTSTART;TZID=America/Halifax:20220528T100000
DTEND;TZID=America/Halifax:20220528T160000
DTSTAMP:20260420T210805
CREATED:20220512T150453Z
LAST-MODIFIED:20220512T150453Z
UID:12631-1653732000-1653753600@949thewave.com
SUMMARY:FILL-A-TRUCK FOR HUNGER
DESCRIPTION:FILL-A-TRUCK FOR HUNGER FOOD DRIVE \nFor Glace Bay Food Bank \nAll Food and Monetary Donations Accepted and Appreciated \n  \n  \n
URL:https://949thewave.com/event/fill-a-truck-for-hunger/
LOCATION:Sobey’s Parking Lot\, Reserve Street\, Glace Bay
CATEGORIES:Community Event
END:VEVENT
END:VCALENDAR