BEGIN:VCALENDAR
VERSION:2.0
PRODID:-//94.9 The Wave - ECPv4.6.26//NONSGML v1.0//EN
CALSCALE:GREGORIAN
METHOD:PUBLISH
X-WR-CALNAME:94.9 The Wave
X-ORIGINAL-URL:https://949thewave.com
X-WR-CALDESC:Events for 94.9 The Wave
BEGIN:VEVENT
DTSTART;TZID=America/Halifax:20230715T140000
DTEND;TZID=America/Halifax:20230715T150000
DTSTAMP:20260420T203952
CREATED:20230626T175006Z
LAST-MODIFIED:20230626T175006Z
UID:14312-1689429600-1689433200@949thewave.com
SUMMARY:Family Story Hour
DESCRIPTION:Glace Bay Library \nSaturday July 15 \n2 – 3pm \nCome one and all for an hour of stories and fun.  Yes\, this will count for the Summer Reading Challenge! \n  \n
URL:https://949thewave.com/event/family-story-hour/
END:VEVENT
END:VCALENDAR