BEGIN:VCALENDAR
VERSION:2.0
PRODID:-//94.9 The Wave - ECPv4.6.26//NONSGML v1.0//EN
CALSCALE:GREGORIAN
METHOD:PUBLISH
X-WR-CALNAME:94.9 The Wave
X-ORIGINAL-URL:https://949thewave.com
X-WR-CALDESC:Events for 94.9 The Wave
BEGIN:VEVENT
DTSTART;TZID=America/Halifax:20231117T150000
DTEND;TZID=America/Halifax:20231117T160000
DTSTAMP:20260421T192502
CREATED:20231115T143127Z
LAST-MODIFIED:20231115T143127Z
UID:14898-1700233200-1700236800@949thewave.com
SUMMARY:Family Skate in Whitney Pier
DESCRIPTION:There will be a family skate in Whitney Pier \nFriday\, November 17th from 3-4PM \n
URL:https://949thewave.com/event/family-skate-in-whitney-pier/
END:VEVENT
END:VCALENDAR