BEGIN:VCALENDAR
VERSION:2.0
PRODID:-//94.9 The Wave - ECPv4.6.26//NONSGML v1.0//EN
CALSCALE:GREGORIAN
METHOD:PUBLISH
X-WR-CALNAME:94.9 The Wave
X-ORIGINAL-URL:https://949thewave.com
X-WR-CALDESC:Events for 94.9 The Wave
BEGIN:VEVENT
DTSTART;TZID=America/Halifax:20190727T130000
DTEND;TZID=America/Halifax:20190727T170000
DTSTAMP:20260422T151134
CREATED:20190725T182831Z
LAST-MODIFIED:20190725T182831Z
UID:7523-1564232400-1564246800@949thewave.com
SUMMARY:Family Picnic
DESCRIPTION:Family Picnic at Grand Mira Community Hall on Saturday\, July 27 from 1 PM – 5 PM with Bingo\, Raffle Table\, Home Baking\, Mini Putt\, Dunk Tank and more\, as well as Roast Beef Dinner.  Cost $12 Adults\, $6 Kids \n
URL:https://949thewave.com/event/family-picnic/
END:VEVENT
END:VCALENDAR