BEGIN:VCALENDAR
VERSION:2.0
PRODID:-//94.9 The Wave - ECPv4.6.26//NONSGML v1.0//EN
CALSCALE:GREGORIAN
METHOD:PUBLISH
X-WR-CALNAME:94.9 The Wave
X-ORIGINAL-URL:https://949thewave.com
X-WR-CALDESC:Events for 94.9 The Wave
BEGIN:VEVENT
DTSTART;TZID=America/Halifax:20230922T133000
DTEND;TZID=America/Halifax:20230922T153000
DTSTAMP:20260425T124306
CREATED:20230906T154251Z
LAST-MODIFIED:20230906T154251Z
UID:14557-1695389400-1695396600@949thewave.com
SUMMARY:Fall Knitting
DESCRIPTION:Glace Bay LIbrary \nSept 22 \n1:30 – 3:30 \nWelcome back to our Knitting Club!  All are welcome to join.   Register by calling 902-849-8657 or email: ewilliams@cbrl.ca or cmcinnis@cbrl.ca \n  \n
URL:https://949thewave.com/event/fall-knitting-3/
END:VEVENT
END:VCALENDAR