BEGIN:VCALENDAR
VERSION:2.0
PRODID:-//94.9 The Wave - ECPv4.6.26//NONSGML v1.0//EN
CALSCALE:GREGORIAN
METHOD:PUBLISH
X-WR-CALNAME:94.9 The Wave
X-ORIGINAL-URL:https://949thewave.com
X-WR-CALDESC:Events for 94.9 The Wave
BEGIN:VEVENT
DTSTART;TZID=America/Halifax:20220917T090000
DTEND;TZID=America/Halifax:20220917T170000
DTSTAMP:20260424T110307
CREATED:20220914T142412Z
LAST-MODIFIED:20220914T160426Z
UID:13131-1663405200-1663434000@949thewave.com
SUMMARY:Fall Classic Car Show
DESCRIPTION:The Cape Breton Classic Cruisers and Partners presents the Fall Classic Car Show. \nWhen: \n\nPre-Registration is Friday September 16th at 6pm on the Boardwalk behind the Civic Center featuring the music of Full Circle from 7-9pm.  Everyone is welcome.\nThe main show takes place on Charlotte St. from 9am-5pm on Saturday\, September 17th (rain date is Sunday\, September 18th).\n\nThere will be hundreds of classic cars lining Charlotte St. with live music from 12-4pm as Full Circle performs.  The will also have some food trucks out to ease your hunger as you look at all these amazing vehicles.  Fuzzy’s Fries will be there along with Don’s Gourmet Hot Dog Cart and Beavertails. \nFree entry.  So come one\, come all. \n  \n
URL:https://949thewave.com/event/fall-classic-car-show/
END:VEVENT
END:VCALENDAR