BEGIN:VCALENDAR
VERSION:2.0
PRODID:-//94.9 The Wave - ECPv4.6.26//NONSGML v1.0//EN
CALSCALE:GREGORIAN
METHOD:PUBLISH
X-WR-CALNAME:94.9 The Wave
X-ORIGINAL-URL:https://949thewave.com
X-WR-CALDESC:Events for 94.9 The Wave
BEGIN:VEVENT
DTSTART;TZID=America/Halifax:20230620T180000
DTEND;TZID=America/Halifax:20230620T190000
DTSTAMP:20260422T013205
CREATED:20230601T181251Z
LAST-MODIFIED:20230601T181251Z
UID:14202-1687284000-1687287600@949thewave.com
SUMMARY:English Conversations
DESCRIPTION:Glace Bay Library \nTuesday June 20 \n6pm – 7pm \nAll are welcome to come and practice English conversations \n  \n
URL:https://949thewave.com/event/english-conversations-3/
END:VEVENT
END:VCALENDAR