BEGIN:VCALENDAR
VERSION:2.0
PRODID:-//94.9 The Wave - ECPv4.6.26//NONSGML v1.0//EN
CALSCALE:GREGORIAN
METHOD:PUBLISH
X-WR-CALNAME:94.9 The Wave
X-ORIGINAL-URL:https://949thewave.com
X-WR-CALDESC:Events for 94.9 The Wave
BEGIN:VEVENT
DTSTART;TZID=America/Halifax:20230418T180000
DTEND;TZID=America/Halifax:20230418T190000
DTSTAMP:20260424T112410
CREATED:20230330T175253Z
LAST-MODIFIED:20230330T175253Z
UID:13903-1681840800-1681844400@949thewave.com
SUMMARY:English Conversation Practice
DESCRIPTION:Glace Bay Library \nTuesday April 18th \n6pm – 7pm \nAll are welcome to join us at the Library for English Conversation practice.  Brought to you by the IRCC. Registration required.  Please call the library to register. \n  \n
URL:https://949thewave.com/event/english-conversation-practice-3/
END:VEVENT
END:VCALENDAR