BEGIN:VCALENDAR
VERSION:2.0
PRODID:-//94.9 The Wave - ECPv4.6.26//NONSGML v1.0//EN
CALSCALE:GREGORIAN
METHOD:PUBLISH
X-WR-CALNAME:94.9 The Wave
X-ORIGINAL-URL:https://949thewave.com
X-WR-CALDESC:Events for 94.9 The Wave
BEGIN:VEVENT
DTSTART;TZID=America/Halifax:20250412T120000
DTEND;TZID=America/Halifax:20250412T160000
DTSTAMP:20260421T153339
CREATED:20250411T160812Z
LAST-MODIFIED:20250411T160812Z
UID:16871-1744459200-1744473600@949thewave.com
SUMMARY:Easter Market
DESCRIPTION:The Polish Village Hall in Whitney Pier will be hosting an Easter Market this Saturday\, April 12\, from 12 noon to 4 p.m. 25 vendors. One-of-a-kind items. $2 admission in support of the St. Michael’s Polish Benefit Society. \n
URL:https://949thewave.com/event/easter-market/
END:VEVENT
END:VCALENDAR