BEGIN:VCALENDAR
VERSION:2.0
PRODID:-//94.9 The Wave - ECPv4.6.26//NONSGML v1.0//EN
CALSCALE:GREGORIAN
METHOD:PUBLISH
X-WR-CALNAME:94.9 The Wave
X-ORIGINAL-URL:https://949thewave.com
X-WR-CALDESC:Events for 94.9 The Wave
BEGIN:VEVENT
DTSTART;TZID=America/Halifax:20240927T160000
DTEND;TZID=America/Halifax:20240927T173000
DTSTAMP:20260424T095239
CREATED:20240830T141556Z
LAST-MODIFIED:20240830T141556Z
UID:16007-1727452800-1727458200@949thewave.com
SUMMARY:Dungeons and Dragons
DESCRIPTION:Glace Bay Library \nEvery Friday Fri (4-5:30pm) \n
URL:https://949thewave.com/event/dungeons-and-dragons-7/2024-09-27/
END:VEVENT
END:VCALENDAR