BEGIN:VCALENDAR
VERSION:2.0
PRODID:-//94.9 The Wave - ECPv4.6.26//NONSGML v1.0//EN
CALSCALE:GREGORIAN
METHOD:PUBLISH
X-WR-CALNAME:94.9 The Wave
X-ORIGINAL-URL:https://949thewave.com
X-WR-CALDESC:Events for 94.9 The Wave
BEGIN:VEVENT
DTSTART;TZID=America/Halifax:20240809T160000
DTEND;TZID=America/Halifax:20240809T173000
DTSTAMP:20260421T132430
CREATED:20240729T135041Z
LAST-MODIFIED:20240729T135041Z
UID:15895-1723219200-1723224600@949thewave.com
SUMMARY:Dungeons and Dragons
DESCRIPTION:Glace Bay Library \n4-5:30PM \n
URL:https://949thewave.com/event/dungeons-and-dragons-6/2024-08-09/
END:VEVENT
END:VCALENDAR