BEGIN:VCALENDAR
VERSION:2.0
PRODID:-//94.9 The Wave - ECPv4.6.26//NONSGML v1.0//EN
CALSCALE:GREGORIAN
METHOD:PUBLISH
X-WR-CALNAME:94.9 The Wave
X-ORIGINAL-URL:https://949thewave.com
X-WR-CALDESC:Events for 94.9 The Wave
BEGIN:VEVENT
DTSTART;TZID=America/Halifax:20230922T163000
DTEND;TZID=America/Halifax:20230922T173000
DTSTAMP:20260425T151234
CREATED:20230906T154323Z
LAST-MODIFIED:20230906T154323Z
UID:14559-1695400200-1695403800@949thewave.com
SUMMARY:Dungeons And Dragons
DESCRIPTION:Glace Bay Library \nSept 22 \n4:30 – 5:30 \nPresenting our new D&D group run by Wizards of the Coast.  Join us for an hour of dice-rolling RPG.  Your next adventure awaits!  Space is limited.  Register by calling 902-849-8657 or email: ewilliams@cbrl.ca or cmcinnis@cbrl.ca \n  \n
URL:https://949thewave.com/event/dungeons-and-dragons-3/
END:VEVENT
END:VCALENDAR