BEGIN:VCALENDAR
VERSION:2.0
PRODID:-//94.9 The Wave - ECPv4.6.26//NONSGML v1.0//EN
CALSCALE:GREGORIAN
METHOD:PUBLISH
X-WR-CALNAME:94.9 The Wave
X-ORIGINAL-URL:https://949thewave.com
X-WR-CALDESC:Events for 94.9 The Wave
BEGIN:VEVENT
DTSTART;TZID=America/Halifax:20241227T160000
DTEND;TZID=America/Halifax:20241227T173000
DTSTAMP:20260420T190300
CREATED:20241202T153416Z
LAST-MODIFIED:20241202T153416Z
UID:16437-1735315200-1735320600@949thewave.com
SUMMARY:Dungeons and Dragons
DESCRIPTION:Glace Bay Library \nEvery Friday Fri (4-5:15pm) \n
URL:https://949thewave.com/event/dungeons-and-dragons-13/2024-12-27/
END:VEVENT
END:VCALENDAR