BEGIN:VCALENDAR
VERSION:2.0
PRODID:-//94.9 The Wave - ECPv4.6.26//NONSGML v1.0//EN
CALSCALE:GREGORIAN
METHOD:PUBLISH
X-WR-CALNAME:94.9 The Wave
X-ORIGINAL-URL:https://949thewave.com
X-WR-CALDESC:Events for 94.9 The Wave
BEGIN:VEVENT
DTSTART;TZID=America/Halifax:20230923T110000
DTEND;TZID=America/Halifax:20230923T150000
DTSTAMP:20260425T181729
CREATED:20230906T155040Z
LAST-MODIFIED:20230906T155040Z
UID:14578-1695466800-1695481200@949thewave.com
SUMMARY:Dominion Fall Fair
DESCRIPTION:Saturday September 23rd \, 11am to 3pm \, Dominion fire hall \n* This is a fall vendor market and craft fair. \n* Admission to the fair will be by donation\, with 100% of all money raised going to the Adopt A Teen program. \n* It will be a great time to pick up fall decor\, accessories and maybe even start some Christmas shopping with local vendors + crafters. \n
URL:https://949thewave.com/event/dominion-fall-fair/
END:VEVENT
END:VCALENDAR