BEGIN:VCALENDAR
VERSION:2.0
PRODID:-//94.9 The Wave - ECPv4.6.26//NONSGML v1.0//EN
CALSCALE:GREGORIAN
METHOD:PUBLISH
X-WR-CALNAME:94.9 The Wave
X-ORIGINAL-URL:https://949thewave.com
X-WR-CALDESC:Events for 94.9 The Wave
BEGIN:VEVENT
DTSTART;TZID=America/Halifax:20231216T120000
DTEND;TZID=America/Halifax:20231216T160000
DTSTAMP:20260423T113904
CREATED:20231205T140947Z
LAST-MODIFIED:20231205T140947Z
UID:14945-1702728000-1702742400@949thewave.com
SUMMARY:Dominion Craft Sale
DESCRIPTION:There will be a craft and vendor sale on December 16th at the Dominion Fire hall from 12pm-4pm.\nThis event is presented by the YESS program participants. admission is by donation and will be donated to a local charity following the event. \n
URL:https://949thewave.com/event/dominion-craft-sale/
END:VEVENT
END:VCALENDAR