BEGIN:VCALENDAR
VERSION:2.0
PRODID:-//94.9 The Wave - ECPv4.6.26//NONSGML v1.0//EN
CALSCALE:GREGORIAN
METHOD:PUBLISH
X-WR-CALNAME:94.9 The Wave
X-ORIGINAL-URL:https://949thewave.com
X-WR-CALDESC:Events for 94.9 The Wave
BEGIN:VEVENT
DTSTART;TZID=America/Halifax:20260504T153000
DTEND;TZID=America/Halifax:20260504T193000
DTSTAMP:20260421T192634
CREATED:20260114T150800Z
LAST-MODIFIED:20260114T150800Z
UID:18230-1777908600-1777923000@949thewave.com
SUMMARY:DnD Monday
DESCRIPTION:Glace Bay Library \nEvery Monday 3:30-7:30 \n
URL:https://949thewave.com/event/dnd-monday-5/2026-05-04/
END:VEVENT
END:VCALENDAR