BEGIN:VCALENDAR
VERSION:2.0
PRODID:-//94.9 The Wave - ECPv4.6.26//NONSGML v1.0//EN
CALSCALE:GREGORIAN
METHOD:PUBLISH
X-WR-CALNAME:94.9 The Wave
X-ORIGINAL-URL:https://949thewave.com
X-WR-CALDESC:Events for 94.9 The Wave
BEGIN:VEVENT
DTSTART;TZID=America/Halifax:20250530T160000
DTEND;TZID=America/Halifax:20250530T173000
DTSTAMP:20260421T143901
CREATED:20250403T172027Z
LAST-MODIFIED:20250403T172027Z
UID:16973-1748620800-1748626200@949thewave.com
SUMMARY:DnD Friday
DESCRIPTION:Glace Bay Library \nEvery Friday 4pm – 5:30 \n\n
URL:https://949thewave.com/event/dnd-friday/2025-05-30/
END:VEVENT
END:VCALENDAR