BEGIN:VCALENDAR
VERSION:2.0
PRODID:-//94.9 The Wave - ECPv4.6.26//NONSGML v1.0//EN
CALSCALE:GREGORIAN
METHOD:PUBLISH
X-WR-CALNAME:94.9 The Wave
X-ORIGINAL-URL:https://949thewave.com
X-WR-CALDESC:Events for 94.9 The Wave
BEGIN:VEVENT
DTSTART;TZID=America/Halifax:20170723T120000
DTEND;TZID=America/Halifax:20170723T170000
DTSTAMP:20260419T174737
CREATED:20170705T122437Z
LAST-MODIFIED:20170705T122437Z
UID:3547-1500811200-1500829200@949thewave.com
SUMMARY:Dive for Gold fundraiser for the Atlantic Burn Camp
DESCRIPTION:The Atlantic Burn Camp along with Baddeck Barnacles Dive Group and the Dive Corer Scuba Shop have partnered up to present the 2017 Dive for Gold fundraiser for the Atlantic Burn Camp. The is a full family event with fun for children and adults. Participants can enter the water either swimming\, snorkeling or by scuba diving to retrieve a shell then then qualify to get a prize. Participants receive a t-shirt\, hot dog\, pop and a prize. Participants can either raise $25 in pledges OR pay a $25 entrance fee. All proceeds go to the children’s burn camp. \nDate: July 23rd\, registration is 12 noon at Groves Point Beach \n
URL:https://949thewave.com/event/dive-for-gold-fundraiser-for-the-atlantic-burn-camp/
END:VEVENT
END:VCALENDAR