BEGIN:VCALENDAR
VERSION:2.0
PRODID:-//94.9 The Wave - ECPv4.6.26//NONSGML v1.0//EN
CALSCALE:GREGORIAN
METHOD:PUBLISH
X-WR-CALNAME:94.9 The Wave
X-ORIGINAL-URL:https://949thewave.com
X-WR-CALDESC:Events for 94.9 The Wave
BEGIN:VEVENT
DTSTART;VALUE=DATE:20171014
DTEND;VALUE=DATE:20171015
DTSTAMP:20260423T121738
CREATED:20170912T153656Z
LAST-MODIFIED:20170912T153656Z
UID:3833-1507939200-1508025599@949thewave.com
SUMMARY:Disco Ball
DESCRIPTION:Disco Ball at the Membertou Trade and Convention Centre \nSaturday October 14th \nTickets just $25.00 available online or at the box office \nDoors open at 8pm gettin down starts at 9pm \nPresented by Ring 73 \n
URL:https://949thewave.com/event/disco-ball-2/
ATTACH;FMTTYPE=image/png:https://949thewave.com/wp-content/uploads/sites/12/2017/09/DiscoBall_CKPE.png
END:VEVENT
END:VCALENDAR