BEGIN:VCALENDAR
VERSION:2.0
PRODID:-//94.9 The Wave - ECPv4.6.26//NONSGML v1.0//EN
CALSCALE:GREGORIAN
METHOD:PUBLISH
X-WR-CALNAME:94.9 The Wave
X-ORIGINAL-URL:https://949thewave.com
X-WR-CALDESC:Events for 94.9 The Wave
BEGIN:VEVENT
DTSTART;TZID=America/Halifax:20230218T140000
DTEND;TZID=America/Halifax:20230218T160000
DTSTAMP:20260424T122351
CREATED:20230130T160756Z
LAST-MODIFIED:20230130T160756Z
UID:13561-1676728800-1676736000@949thewave.com
SUMMARY:Dessert Tea at the Mira Centre
DESCRIPTION:A Dessert Tea with your choice of pie or cake with ice cream and tea or coffee will be held at the Mira Centre in Marion Bridge on Saturday \, February 18\, from 2 to 4 pm. Alternate weather day will be on Saturday February 25 . \n
URL:https://949thewave.com/event/dessert-tea-at-the-mira-centre/
END:VEVENT
END:VCALENDAR