BEGIN:VCALENDAR
VERSION:2.0
PRODID:-//94.9 The Wave - ECPv4.6.26//NONSGML v1.0//EN
CALSCALE:GREGORIAN
METHOD:PUBLISH
X-WR-CALNAME:94.9 The Wave
X-ORIGINAL-URL:https://949thewave.com
X-WR-CALDESC:Events for 94.9 The Wave
BEGIN:VEVENT
DTSTART;VALUE=DATE:20170404
DTEND;VALUE=DATE:20170405
DTSTAMP:20260422T154529
CREATED:20170310T172659Z
LAST-MODIFIED:20170310T172659Z
UID:2196-1491264000-1491350399@949thewave.com
SUMMARY:DEREK EDWARDS - ALLS I’M SAYING
DESCRIPTION:DEREK EDWARDS – ALLS I’M SAYING   \nAlls I’m Saying is brazenly tentative! Like a sniper with the hiccups\, Derek Edwards takes aim at life’s galling moments\, exhales slowly and jerks back the trigger.  A riotous evening of homegrown comedy — like taking a ride in an open golf cart with a good friend and a 6 pack. \nAlls I’m Saying – Derek Edwards’ new 90-minute stand-up comedy show\, …a richly textured and enthralling ‘cut above\,’ delivered with pace and authority by the consummate Canadian Comedian. \n“Everyone knows Derek is the funniest man in Canada.”  – Rick Mercer \n“5 STARS – the funniest man on earth” – Winnipeg Free Press \n“4 STARS –  the crowd howled” – Victoria Times Colonist \n“still the funniest man in Canada” – Toronto Sun \n“Edwards reigns as the King of Canadian comedy” – Charlottetown Guardian \n“Derek Edwards is hysterical” – Calgary Sun \n“Edwards takes stand-up to next stage” – Georgia Straight \n“the epitome of timing & storytelling” – Halifax Chronicle Herald \n“the comedian’s comedian” – London Free Press \nTickets and more information available here. \nVIDEO CLIP \n  \n \n
URL:https://949thewave.com/event/derek-edwards-alls-im-saying/
ATTACH;FMTTYPE=image/gif:https://949thewave.com/wp-content/uploads/sites/12/2017/03/derekEdwards.gif
END:VEVENT
END:VCALENDAR