BEGIN:VCALENDAR
VERSION:2.0
PRODID:-//94.9 The Wave - ECPv4.6.26//NONSGML v1.0//EN
CALSCALE:GREGORIAN
METHOD:PUBLISH
X-WR-CALNAME:94.9 The Wave
X-ORIGINAL-URL:https://949thewave.com
X-WR-CALDESC:Events for 94.9 The Wave
BEGIN:VEVENT
DTSTART;TZID=America/Halifax:20231027T163000
DTEND;TZID=America/Halifax:20231027T173000
DTSTAMP:20260421T142309
CREATED:20231010T172822Z
LAST-MODIFIED:20231010T172822Z
UID:14692-1698424200-1698427800@949thewave.com
SUMMARY:D&D @ GBL
DESCRIPTION:Glace Bay Library \nFriday Oct 27 \n4:30 – 5:30 \nLooking for a new adventure?  Join our Dungeon Master and fellow players\, roll the dice and start your quest! \n  \n
URL:https://949thewave.com/event/dd-gbl-3/
END:VEVENT
END:VCALENDAR