BEGIN:VCALENDAR
VERSION:2.0
PRODID:-//94.9 The Wave - ECPv4.6.26//NONSGML v1.0//EN
CALSCALE:GREGORIAN
METHOD:PUBLISH
X-WR-CALNAME:94.9 The Wave
X-ORIGINAL-URL:https://949thewave.com
X-WR-CALDESC:Events for 94.9 The Wave
BEGIN:VEVENT
DTSTART;TZID=America/Halifax:20240426T163000
DTEND;TZID=America/Halifax:20240426T173000
DTSTAMP:20260421T125749
CREATED:20240415T145851Z
LAST-MODIFIED:20240415T145851Z
UID:15419-1714149000-1714152600@949thewave.com
SUMMARY:D&D @ GBL
DESCRIPTION:Glace Bay Library \nFridays \n4:30 – 5:30 \nLooking for a new adventure?  Join our Dungeon Master and fellow players\, roll the dice and start your quest! \n
URL:https://949thewave.com/event/dd-gbl-15/2024-04-26/
END:VEVENT
END:VCALENDAR