BEGIN:VCALENDAR
VERSION:2.0
PRODID:-//94.9 The Wave - ECPv4.6.26//NONSGML v1.0//EN
CALSCALE:GREGORIAN
METHOD:PUBLISH
X-WR-CALNAME:94.9 The Wave
X-ORIGINAL-URL:https://949thewave.com
X-WR-CALDESC:Events for 94.9 The Wave
BEGIN:VEVENT
DTSTART;TZID=America/Halifax:20200118T200000
DTEND;TZID=America/Halifax:20200118T233000
DTSTAMP:20260424T134623
CREATED:20200109T141010Z
LAST-MODIFIED:20200109T141010Z
UID:8839-1579377600-1579390200@949thewave.com
SUMMARY:Dance
DESCRIPTION:DANCE\, next Saturday night\, Jan. 18th at 8 PM at the Sydney Mines Seniors and Pensioner’s club on Frasier Ave in Sydney Mines. For an evening of dancing and fun\, come out and listen to the great sounds of “BACK IN TIME” for all your favorite classic country and old time Rock “n” Roll songs. You might even win an even split\, usually over $100. \n
URL:https://949thewave.com/event/dance-2/
END:VEVENT
END:VCALENDAR