BEGIN:VCALENDAR
VERSION:2.0
PRODID:-//94.9 The Wave - ECPv4.6.26//NONSGML v1.0//EN
CALSCALE:GREGORIAN
METHOD:PUBLISH
X-WR-CALNAME:94.9 The Wave
X-ORIGINAL-URL:https://949thewave.com
X-WR-CALDESC:Events for 94.9 The Wave
BEGIN:VEVENT
DTSTART;TZID=America/Halifax:20230624T120000
DTEND;TZID=America/Halifax:20230624T140000
DTSTAMP:20260421T064337
CREATED:20230616T142557Z
LAST-MODIFIED:20230616T142557Z
UID:14267-1687608000-1687615200@949thewave.com
SUMMARY:Cromarty Tennis Club Open House
DESCRIPTION:Cromarty Tennis Club in Sydney will be hosting an Open House on Saturday June 24\, 2023 from 12:00-2:00 . Information and registration will be available. Instructors will be on hand if anyone would like to try tennis. ( racquets available) \n
URL:https://949thewave.com/event/cromarty-tennis-club-open-house/
END:VEVENT
END:VCALENDAR